BEGIN:VCALENDAR
VERSION:2.0
PRODID:-//Mitutoyo AZS Wratislavia MTB Team - ECPv6.15.20//NONSGML v1.0//EN
CALSCALE:GREGORIAN
METHOD:PUBLISH
X-WR-CALNAME:Mitutoyo AZS Wratislavia MTB Team
X-ORIGINAL-URL:https://mitutoyo-team.pl
X-WR-CALDESC:Wydarzenia dla Mitutoyo AZS Wratislavia MTB Team
REFRESH-INTERVAL;VALUE=DURATION:PT1H
X-Robots-Tag:noindex
X-PUBLISHED-TTL:PT1H
BEGIN:VTIMEZONE
TZID:Europe/Warsaw
BEGIN:DAYLIGHT
TZOFFSETFROM:+0100
TZOFFSETTO:+0200
TZNAME:CEST
DTSTART:20150329T010000
END:DAYLIGHT
BEGIN:STANDARD
TZOFFSETFROM:+0200
TZOFFSETTO:+0100
TZNAME:CET
DTSTART:20151025T010000
END:STANDARD
BEGIN:DAYLIGHT
TZOFFSETFROM:+0100
TZOFFSETTO:+0200
TZNAME:CEST
DTSTART:20160327T010000
END:DAYLIGHT
BEGIN:STANDARD
TZOFFSETFROM:+0200
TZOFFSETTO:+0100
TZNAME:CET
DTSTART:20161030T010000
END:STANDARD
BEGIN:DAYLIGHT
TZOFFSETFROM:+0100
TZOFFSETTO:+0200
TZNAME:CEST
DTSTART:20170326T010000
END:DAYLIGHT
BEGIN:STANDARD
TZOFFSETFROM:+0200
TZOFFSETTO:+0100
TZNAME:CET
DTSTART:20171029T010000
END:STANDARD
END:VTIMEZONE
BEGIN:VEVENT
DTSTART;VALUE=DATE:20161001
DTEND;VALUE=DATE:20161002
DTSTAMP:20260422T104533
CREATED:20160415T204729Z
LAST-MODIFIED:20160415T204729Z
UID:125-1475280000-1475366399@mitutoyo-team.pl
SUMMARY:Mazovia MTB Marathon #14 - Kielce
DESCRIPTION:
URL:https://mitutoyo-team.pl/kalendarz-startow/mazovia-mtb-marathon-14-kielce/
LOCATION:Kielce\, Kielce\, Polska
END:VEVENT
BEGIN:VEVENT
DTSTART;VALUE=DATE:20160626
DTEND;VALUE=DATE:20160627
DTSTAMP:20260422T104533
CREATED:20160415T204524Z
LAST-MODIFIED:20160415T204559Z
UID:123-1466899200-1466985599@mitutoyo-team.pl
SUMMARY:Mazovia MTB Marathon #7 - Łopuszna
DESCRIPTION:
URL:https://mitutoyo-team.pl/kalendarz-startow/mazovia-mtb-marathon-7-lopuszna/
LOCATION:Łopuszna\, Łopuszna\, Polska
END:VEVENT
END:VCALENDAR